0.00001299999985
0.00000000000000
0.00000000000000
-0.00000999999975
-119.93389532998535
36.24243502997474
