0.00001299999985
0.00000000000000
0.00000000000000
-0.00000999999975
-119.93384917000354
36.24236377993108
