0.00001299999985
0.00000000000000
0.00000000000000
-0.00000999999975
-119.93367299998535
36.24223999997474
