0.00001299999985
0.00000000000000
0.00000000000000
-0.00000999999975
-119.93368100000355
36.24223999993108
