0.00001299999985
0.00000000000000
0.00000000000000
-0.00000999999975
-119.93367508998534
36.24224024997474
