0.00000700000010
0.00000000000000
0.00000000000000
-0.00000600000021
-119.29270000003325
35.52600000002850
