0.00000700000010
0.00000000000000
0.00000000000000
-0.00000600000021
-119.29250000003324
35.52590000002850
