0.00000700000010
0.00000000000000
0.00000000000000
-0.00000600000021
-119.29240000003325
35.52580000002850
