0.00000700000010
0.00000000000000
0.00000000000000
-0.00000600000021
-119.29265900001759
35.52593400001555
