0.00000700000010
0.00000000000000
0.00000000000000
-0.00000600000021
-119.29267300001779
35.52601800001852
