0.00000700000010
0.00000000000000
0.00000000000000
-0.00000600000021
-119.29271500001836
35.52598200001725
