0.00000799999998
0.00000000000000
0.00000000000000
-0.00000600000021
-119.92959999997979
36.21140000002850
