0.00001499999962
0.00000000000000
0.00000000000000
-0.00001200000042
-119.93150000001305
36.21200000005700
