0.00000799999998
0.00000000000000
0.00000000000000
-0.00000600000021
-119.93139999997979
36.21170000002850
