0.00000799999998
0.00000000000000
0.00000000000000
-0.00000600000021
-119.93039999997978
36.21130000002850
