0.00000799999998
0.00000000000000
0.00000000000000
-0.00000600000021
-119.92989999997980
36.21120000002850
