0.00001499999962
0.00000000000000
0.00000000000000
-0.00001200000042
-119.93460000001303
36.21260000005700
