0.00001299999985
0.00000000000000
0.00000000000000
-0.00001100000009
-119.93510000000354
36.21269999999404
