0.00001499999962
0.00000000000000
0.00000000000000
-0.00001200000042
-119.93400000001304
36.21190000005700
