0.00001499999962
0.00000000000000
0.00000000000000
-0.00001200000042
-119.93450000001305
36.21240000005700
