0.00001200000042
0.00000000000000
0.00000000000000
-0.00000999999975
-119.94300000005700
36.21279999993108
