0.00001299999985
0.00000000000000
0.00000000000000
-0.00001100000009
-119.96130000000353
36.21239999999404
