0.00001299999985
0.00000000000000
0.00000000000000
-0.00001100000009
-119.96060000000354
36.21189999999404
