0.00001451000026
0.00000000000000
0.00000000000000
-0.00001131000045
-119.96155099998917
36.21983099999726
