0.00001200000042
0.00000000000000
0.00000000000000
-0.00000999999975
-119.95260000005700
36.21979999993108
