0.00001200000042
0.00000000000000
0.00000000000000
-0.00000999999975
-119.95230000005699
36.21939999993109
