0.00001299999985
0.00000000000000
0.00000000000000
-0.00000999999975
-119.93430000000355
36.24269999993108
