0.00001299999985
0.00000000000000
0.00000000000000
-0.00000999999975
-119.93390000000353
36.24259999993108
