0.00001299999985
0.00000000000000
0.00000000000000
-0.00000999999975
-119.93410000000354
36.24279999993108
