0.00001299999985
0.00000000000000
0.00000000000000
-0.00000999999975
-119.93370650000347
36.24250499993095
