0.00001299999985
0.00000000000000
0.00000000000000
-0.00000999999975
-119.96040000000355
36.24249999993108
